BEGIN:VCALENDAR
VERSION:2.0
PRODID:-//ETV Canada - ECPv6.8.3//NONSGML v1.0//EN
CALSCALE:GREGORIAN
METHOD:PUBLISH
X-WR-CALNAME:ETV Canada
X-ORIGINAL-URL:https://etvcanada.ca
X-WR-CALDESC:Events for ETV Canada
REFRESH-INTERVAL;VALUE=DURATION:PT1H
X-Robots-Tag:noindex
X-PUBLISHED-TTL:PT1H
BEGIN:VTIMEZONE
TZID:UTC
BEGIN:STANDARD
TZOFFSETFROM:+0000
TZOFFSETTO:+0000
TZNAME:UTC
DTSTART:20170101T000000
END:STANDARD
END:VTIMEZONE
BEGIN:VEVENT
DTSTART;VALUE=DATE:20170524
DTEND;VALUE=DATE:20170526
DTSTAMP:20260425T205005
CREATED:20160908T141900Z
LAST-MODIFIED:20160908T141900Z
UID:2701-1495584000-1495756799@etvcanada.ca
SUMMARY:[:en]AQE 2017[:]
DESCRIPTION:
URL:https://etvcanada.ca/event/aqe-2017/
LOCATION:Telford International Centre\, St Quentin Gate\, Telford\, TF3 4JH\, United Kingdom
END:VEVENT
END:VCALENDAR