BEGIN:VCALENDAR
VERSION:2.0
PRODID:-//ETV Canada - ECPv6.8.3//NONSGML v1.0//EN
CALSCALE:GREGORIAN
METHOD:PUBLISH
X-WR-CALNAME:ETV Canada
X-ORIGINAL-URL:https://etvcanada.ca
X-WR-CALDESC:Events for ETV Canada
REFRESH-INTERVAL;VALUE=DURATION:PT1H
X-Robots-Tag:noindex
X-PUBLISHED-TTL:PT1H
BEGIN:VTIMEZONE
TZID:UTC
BEGIN:STANDARD
TZOFFSETFROM:+0000
TZOFFSETTO:+0000
TZNAME:UTC
DTSTART:20170101T000000
END:STANDARD
END:VTIMEZONE
BEGIN:VEVENT
DTSTART;VALUE=DATE:20170621
DTEND;VALUE=DATE:20170623
DTSTAMP:20260425T190228
CREATED:20160908T144609Z
LAST-MODIFIED:20160908T144609Z
UID:2725-1498003200-1498175999@etvcanada.ca
SUMMARY:[:en]Atlantic Canada Petroleum Show[:]
DESCRIPTION:
URL:https://etvcanada.ca/event/atlantic-canada-petroleum-show/
LOCATION:Mile One Centre\, 50 New Gower St\, St. John's\, Newfoundland\, A1C 6K3\, Canada
END:VEVENT
END:VCALENDAR