BEGIN:VCALENDAR
VERSION:2.0
PRODID:-//ETV Canada - ECPv6.8.3//NONSGML v1.0//EN
CALSCALE:GREGORIAN
METHOD:PUBLISH
X-WR-CALNAME:ETV Canada
X-ORIGINAL-URL:https://etvcanada.ca/fr
X-WR-CALDESC:Évènements pour ETV Canada
REFRESH-INTERVAL;VALUE=DURATION:PT1H
X-Robots-Tag:noindex
X-PUBLISHED-TTL:PT1H
BEGIN:VTIMEZONE
TZID:UTC
BEGIN:STANDARD
TZOFFSETFROM:+0000
TZOFFSETTO:+0000
TZNAME:UTC
DTSTART:20170101T000000
END:STANDARD
END:VTIMEZONE
BEGIN:VEVENT
DTSTART;VALUE=DATE:20170403
DTEND;VALUE=DATE:20170406
DTSTAMP:20260425T204509
CREATED:20160908T143054Z
LAST-MODIFIED:20160908T143054Z
UID:2709-1491177600-1491436799@etvcanada.ca
SUMMARY:[:en]GLOBE Capital[:]
DESCRIPTION:
URL:https://etvcanada.ca/fr/event/globe-capital/
LOCATION:Four Seasons Hotel Toronto\, 60 Yorkville Ave\, Toronto\, Ontario\, M4W 0A4\, Canada
END:VEVENT
END:VCALENDAR