BEGIN:VCALENDAR
VERSION:2.0
PRODID:-//ETV Canada - ECPv6.8.3//NONSGML v1.0//EN
CALSCALE:GREGORIAN
METHOD:PUBLISH
X-WR-CALNAME:ETV Canada
X-ORIGINAL-URL:https://etvcanada.ca/fr
X-WR-CALDESC:Évènements pour ETV Canada
REFRESH-INTERVAL;VALUE=DURATION:PT1H
X-Robots-Tag:noindex
X-PUBLISHED-TTL:PT1H
BEGIN:VTIMEZONE
TZID:UTC
BEGIN:STANDARD
TZOFFSETFROM:+0000
TZOFFSETTO:+0000
TZNAME:UTC
DTSTART:20170101T000000
END:STANDARD
END:VTIMEZONE
BEGIN:VEVENT
DTSTART;VALUE=DATE:20170609
DTEND;VALUE=DATE:20170617
DTSTAMP:20260425T172852
CREATED:20160916T160757Z
LAST-MODIFIED:20160916T160757Z
UID:2757-1496966400-1497657599@etvcanada.ca
SUMMARY:[:en]ISO/TC 207 Technical Committee Meeting[:]
DESCRIPTION:
URL:https://etvcanada.ca/fr/event/isotc-207-technical-committee-meeting/
LOCATION:Halifax\, Nova Scotia\, Canada
END:VEVENT
END:VCALENDAR