BEGIN:VCALENDAR
VERSION:2.0
PRODID:-//ETV Canada - ECPv6.8.3//NONSGML v1.0//EN
CALSCALE:GREGORIAN
METHOD:PUBLISH
X-ORIGINAL-URL:https://etvcanada.ca/fr
X-WR-CALDESC:Évènements pour ETV Canada
REFRESH-INTERVAL;VALUE=DURATION:PT1H
X-Robots-Tag:noindex
X-PUBLISHED-TTL:PT1H
BEGIN:VTIMEZONE
TZID:UTC
BEGIN:STANDARD
TZOFFSETFROM:+0000
TZOFFSETTO:+0000
TZNAME:UTC
DTSTART:20170101T000000
END:STANDARD
END:VTIMEZONE
BEGIN:VEVENT
DTSTART;VALUE=DATE:20170123
DTEND;VALUE=DATE:20170126
DTSTAMP:20260426T041049
CREATED:20160908T134452Z
LAST-MODIFIED:20160908T134452Z
UID:2681-1485129600-1485388799@etvcanada.ca
SUMMARY:[:en]Cleantech Forum[:]
DESCRIPTION:
URL:https://etvcanada.ca/fr/event/cleantech-forum/
LOCATION:Parc 55 San Francisco\, 55 Cyril Magnin Street\, San Francisco\, CA\, 94102\, United States
END:VEVENT
END:VCALENDAR