BEGIN:VCALENDAR
VERSION:2.0
PRODID:-//ETV Canada - ECPv6.8.3//NONSGML v1.0//EN
CALSCALE:GREGORIAN
METHOD:PUBLISH
X-ORIGINAL-URL:https://etvcanada.ca/fr
X-WR-CALDESC:Évènements pour ETV Canada
REFRESH-INTERVAL;VALUE=DURATION:PT1H
X-Robots-Tag:noindex
X-PUBLISHED-TTL:PT1H
BEGIN:VTIMEZONE
TZID:UTC
BEGIN:STANDARD
TZOFFSETFROM:+0000
TZOFFSETTO:+0000
TZNAME:UTC
DTSTART:20170101T000000
END:STANDARD
END:VTIMEZONE
BEGIN:VEVENT
DTSTART;VALUE=DATE:20170215
DTEND;VALUE=DATE:20170217
DTSTAMP:20260425T224129
CREATED:20160908T130334Z
LAST-MODIFIED:20160908T130334Z
UID:2637-1487116800-1487289599@etvcanada.ca
SUMMARY:[:en]BUILDEX Vancouver[:]
DESCRIPTION:
URL:https://etvcanada.ca/fr/event/buildex-vancouver/
LOCATION:Vancouver Convention Centre West\, 1055 Canada Pl\, Vancouver\, British Columbia\, V6C 0C3\, Canada
ORGANIZER;CN="":MAILTO:dlazaro@coastenvironmental.ca
END:VEVENT
END:VCALENDAR