BEGIN:VCALENDAR
VERSION:2.0
PRODID:-//ETV Canada - ECPv6.8.3//NONSGML v1.0//EN
CALSCALE:GREGORIAN
METHOD:PUBLISH
X-ORIGINAL-URL:https://etvcanada.ca/fr
X-WR-CALDESC:Évènements pour ETV Canada
REFRESH-INTERVAL;VALUE=DURATION:PT1H
X-Robots-Tag:noindex
X-PUBLISHED-TTL:PT1H
BEGIN:VTIMEZONE
TZID:UTC
BEGIN:STANDARD
TZOFFSETFROM:+0000
TZOFFSETTO:+0000
TZNAME:UTC
DTSTART:20170101T000000
END:STANDARD
END:VTIMEZONE
BEGIN:VEVENT
DTSTART;VALUE=DATE:20170301
DTEND;VALUE=DATE:20170302
DTSTAMP:20260425T205608
CREATED:20160908T133930Z
LAST-MODIFIED:20160908T133930Z
UID:2673-1488326400-1488412799@etvcanada.ca
SUMMARY:[:en]Salon Des Teq 2017[:]
DESCRIPTION:
URL:https://etvcanada.ca/fr/event/salon-des-teq-2017/
LOCATION:Centre des Congrès de Québec\, 900\, boul. René-Lévesque Est \, Quebec\, Quebec\, G1R 2B5\, Canada
END:VEVENT
BEGIN:VEVENT
DTSTART;VALUE=DATE:20170305
DTEND;VALUE=DATE:20170309
DTSTAMP:20260425T205608
CREATED:20160908T130715Z
LAST-MODIFIED:20160908T130715Z
UID:2643-1488672000-1489017599@etvcanada.ca
SUMMARY:[:en]PDAC 2017 (Prospectors & Developers Association of Canada)[:]
DESCRIPTION:
URL:https://etvcanada.ca/fr/event/pdac-2017-prospectors-developers-association-of-canada/
LOCATION:Metro Toronto Convention Centre\, 222 Bremner Blvd\, Toronto\, Ontario\, M5V 3L9\, Canada
END:VEVENT
BEGIN:VEVENT
DTSTART;VALUE=DATE:20170307
DTEND;VALUE=DATE:20170310
DTSTAMP:20260425T205608
CREATED:20160908T124829Z
LAST-MODIFIED:20160908T124829Z
UID:2629-1488844800-1489103999@etvcanada.ca
SUMMARY:[:en]Ecobuild[:]
DESCRIPTION:
URL:https://etvcanada.ca/fr/event/ecobuild/
LOCATION:ExCel London\, Royal Victoria Dock\, 1 Western Gateway \, London\, E16 1XL\, United Kingdom
END:VEVENT
BEGIN:VEVENT
DTSTART;VALUE=DATE:20170321
DTEND;VALUE=DATE:20170324
DTSTAMP:20260425T205608
CREATED:20160908T142713Z
LAST-MODIFIED:20160908T142713Z
UID:2707-1490054400-1490313599@etvcanada.ca
SUMMARY:[:en]Americana [:]
DESCRIPTION:
URL:https://etvcanada.ca/fr/event/americana/
LOCATION:Palais des Congres de Montreal (\, 1001 Place Jean-Paul-Riopelle\, Montreal\, Quebec\, H2Z 1H5\, Canada
END:VEVENT
BEGIN:VEVENT
DTSTART;VALUE=DATE:20170322
DTEND;VALUE=DATE:20170324
DTSTAMP:20260425T205608
CREATED:20160908T131032Z
LAST-MODIFIED:20160908T131032Z
UID:2647-1490140800-1490313599@etvcanada.ca
SUMMARY:[:en]TRIECA 2017[:]
DESCRIPTION:
URL:https://etvcanada.ca/fr/event/trieca-2017/
LOCATION:Pearson Convention Centre\, 2638 Steeles Avenue East\, Brampton\, Ontario\, L6T 4L7\, Canada
END:VEVENT
END:VCALENDAR